BEGIN:VCALENDAR
VERSION:2.0
PRODID:-//Sammler.Net - ECPv4.6.8//NONSGML v1.0//EN
CALSCALE:GREGORIAN
METHOD:PUBLISH
X-WR-CALNAME:Sammler.Net
X-ORIGINAL-URL:https://sammler.net
X-WR-CALDESC:Events for Sammler.Net
BEGIN:VEVENT
DTSTART;TZID=Europe/Berlin:20171203T100000
DTEND;TZID=Europe/Berlin:20171203T150000
DTSTAMP:20171220T035217
CREATED:20171202T223520Z
LAST-MODIFIED:20171202T223520Z
UID:456-1512295200-1512313200@sammler.net
SUMMARY:Hallstadter Modellbahnbörse
DESCRIPTION:Die Tischgebühr wird am Veranstaltungstag vom Veranstalter kassiert.\nIhre Tischreservierung ist bindend.\nBei unentschuldigten Nichterscheinen werden die Kosten der gebuchten Tische\nund einer Bearbeitungsgebühr in Höhe von 15\,- € in Rechnung gestellt.\nDie Gänge der Besucher dürfen nicht eingeengt werden durch Überbauen und\nVorrücken der Tische.\nDer Platz von Ausstellern ist sauber zu verlassen und der Müll ist selbst zu entsorgen.\nDer Abbau der angebotenen Ware ist vor Schließen der Kasse untersagt! Zuwiderhandlungen werden mit dem Ausschluß\nvon zukünftigen Veranstaltung geahntet. Der Aussteller haftet für jeden Schaden\, der durch seinen Betrieb entsteht.\nDer Veranstalter haftet weder für Feuer- und Diebstahlschäden gegenüber den Ausstellern\, noch für Schäden Dritter durch Aussteller. \n
URL:https://sammler.net/veranstaltung/hallstadter-modellbahnboerse/
LOCATION:Max-Brose-Straße 1\, Hallstadt\, Deutschland
END:VEVENT
BEGIN:VEVENT
DTSTART;TZID=Europe/Berlin:20171209T090000
DTEND;TZID=Europe/Berlin:20171209T160000
DTSTAMP:20171220T035217
CREATED:20171203T190339Z
LAST-MODIFIED:20171203T190440Z
UID:555-1512810000-1512835200@sammler.net
SUMMARY:Modellbahnbörse in Ravensburg
DESCRIPTION: \nAm Samstag\, den 09.12.2017 findet wieder unsere große Ausstellung mit Börse in der Oberschwabenhalle statt. Auf 1000 m² werden neben vier Vereinsanlagen (Spur Z\, Spur N\, H0-Modulanlage und H0-Jugendanlage) fünf Gastanlagen zu bestaunen sein: \n\nSpur H0-Bahnbetriebswerk Modellbahn Bodensee e.V. Friedrichshafen\nSpur 0-Anlage Günztal-Museumsbahnverein e.V. Ottobeuren\nH0-Modulanlage BME Friedrichshafen\nSpur 0-Nostalgieanlage von M. Haschek Bad Waldsee\nSpur N-Privatanlage von U. Leibbrand Weingarten\n\nHinzu kommen historische Schiffsmodelle von G. Hümmler\, Kressbronn\, und LKW-Modelle der Modellbaugruppe Bad Waldsee im Maßstab 1:8 und 1:16. Darüber hinaus werden namhafte Fachgeschäfte sowie private und professionelle Händler auf weiteren 1000 m² ihre Modellbahnprodukte anbieten. \nAlso nicht vergessen: 09.12.2017\, 9:00 Uhr bis 16:00 Uhr\, Oberschwabenhalle Ravensburg! \n
URL:https://sammler.net/veranstaltung/modellbahnboerse-in-ravensburg/
LOCATION:Bleicherstraße 20\, Ravensburg\, 88212\, Deutschland
CATEGORIES:Börsen
ORGANIZER;CN="Eisenbahnfreunde-RV":MAILTO:info@eisenbahnfreunde-rv.de
END:VEVENT
BEGIN:VEVENT
DTSTART;TZID=Europe/Berlin:20171216T100000
DTEND;TZID=Europe/Berlin:20171216T160000
DTSTAMP:20171220T035217
CREATED:20171211T070011Z
LAST-MODIFIED:20171211T070011Z
UID:2792-1513418400-1513440000@sammler.net
SUMMARY:Modelleisenbahn-Börse in Fellbach
DESCRIPTION:Die nächste Modelleisenbahnbörse mit Autos und Spielzeug findet am 16. Dezember statt.\nWeitere Infos unter http://www.eidels-boersen.de \n
URL:https://sammler.net/veranstaltung/modelleisenbahn-boerse-in-fellbach/
LOCATION:Kastanienweg 5\, Aichwald\, 73773\, Deutschland
CATEGORIES:Börsen
ORGANIZER;CN="Helmut%20Eidel":MAILTO:info@eidels-boersen.de
END:VEVENT
END:VCALENDAR